Workbook
Name Button_1: "Pokreal_CHC_List"
Name Button_2: "Pokreal_CHC_List"
Name KP: #REF!
Name KP: #REF!
Name г.Ош: #REF!
Name ГР: #REF!
Name демогр7: #REF!
Name ЕГР: #REF!
Name ЕГРСЕ1: #REF!
Name ЕГРСЕ2: #REF!
Name й12312: #REF!
Name КРыз: #REF!
Name КРыз: #REF!
Name т123: #REF!
Name тр: #REF!
Name тур: #REF!

Sheet свод
A1: 1. Административно-территориальное деление
A2: Ошской области
A3: (на конец года, единиц)
C4: 2019 | D4: 2020 | E4: 2021 | F4: 2022 | G4: 2023
A5: Число районов | C5: 7 | D5: 7 | E5: 7 | F5: 7 | G5: 7
A6: Число городов | C6: 3 | D6: 3 | E6: 3 | F6: 3 | G6: 3
A7: Число айыльных аймаков | C7: 88 | D7: 88 | E7: 88 | F7: 88 | G7: 88
A8: Число сельских населенных пунктов | C8: 492 | D8: 526 | E8: 526 | F8: 530 | G8: 536
A11: 1.2 Основные социально-экономические характеристики
A12: Ошской области
B13: Ед. изм. | C13: 2019 | D13: 2020 | E13: 2021 | F13: 2022 | G13: 2023
A15: Объем производства промышленной
A16: продукции (по видам экономической деятельности) без стоимости давальческого сырья | B16: млн.сомов | C16: 10385.6 | D16: 9457.8 | E16: 13516.8 | F16: 14596.6 | G16: 17317.6
A17: Производство основных видов
A18: промышленной продукции
A19: (по основным производимым видам):
A20: Уголь каменный и лигнит | B20: тыс.тонн (т) | C20: 810.8 | D20: 535.1 | E20: 875.2 | F20: 977 | G20: 1001.6
A21: Мясо и пищевые субпродукты | B21: т | C21: 5033.9 | D21: 4706.1 | E21: 5061.6 | F21: 4476.2 | G21: 4945.7
A22: Масло растительное | B22: т | C22: 751.6 | D22: 508.7 | E22: 402.4 | F22: 366.4 | G22: 404.1
A23: Табак промышленно изготовленный | B23: т | C23: 278 | D23: - | E23: 107 | F23: 96.6 | G23: 33
A24: Волокно хлопковое, кардо и гребнечесаное | B24: т | C24: 8372.2 | D24: 8368.9 | E24: 8258.9 | F24: 9730.3 | G24: 9058.4
A25: Мука из зерновых культур | B25: тыс. т | C25: 28.4 | D25: 25 | E25: 17.8 | F25: 20.5 | G25: 22.3
A26: Производство основных видов
A27: сельскохозяйственной продукции:
A28: Зерно (в весе после доработки) | B28: т | C28: 297288.8 | D28: 308769.6 | E28: 306939.8 | F28: 327810 | G28: 333370.3
A29: Картофель | B29: т | C29: 206195 | D29: 204947.3 | E29: 207365.6 | F29: 206648 | G29: 211356.5
A30: Овощи | B30: т | C30: 175935.7 | D30: 173538.5 | E30: 179111.8 | F30: 186387 | G30: 198183.7
A31: Мясо (в живой массе) | B31: т | C31: 84656.8 | D31: 86155.5 | E31: 87256.6 | F31: 88448.2 | G31: 90043
A32: Мясо (в убойной массе) | B32: т | C32: 36950.3 | D32: 46853 | E32: 47342 | F32: 50070.8 | G32: 48781.9
A33: Молоко сырое | B33: т | C33: 321710 | D33: 328068 | E33: 335023.5 | F33: 340341.6 | G33: 339592.9
A34: Шерсть (в физическом весе) | B34: т | C34: 2298.6 | D34: 2307 | E34: 2276.6 | F34: 2263.6 | G34: 2363.1
A35: Яйца | B35: тыс.шт | C35: 58516.2 | D35: 61683.1 | E35: 64196.9 | F35: 65462.3 | G35: 66670.8
A36: Инвестиции в основной капитал
A37: (капитальные вложения) | B37: млн.сомов | C37: 6889.8 | D37: 5088.1 | E37: 5481.1 | F37: 11810 | G37: 12863.7
A38: Перевозки грузов автомобильным
A39: транспортом | B39: тыс. т | C39: 2571.6 | D39: 2424.2 | E39: 2580.4 | F39: 2680.1 | G39: 2756.8
A40: Оптовая и розничная торговля; автомобилей и мотоциклов | B40: млн.сомов | C40: 44980.3 | D40: 37473.1 | E40: 48279.8 | F40: 61984.7 | G40: 76071
A41: Деятельность гостиниц и ресторанов | B41: млн.сомов | C41: 1180.5 | D41: 961.9 | E41: 1196.5 | F41: 1435.6 | G41: 1699.2
A42: Оборот розничной торговли, включая
A43: оборот предприятий питания | B43: млн.сомов | C43: 36548.2 | D43: 32093.4 | E43: 43095.9 | F43: 52975.5 | G43: 65192.9
...

Sheet ЕГРСЕ (3)
A1: 2. ПРЕДПРИЯТИЯ И ОРГАНИЗАЦИИ
A2: 2.1 Количество действующих юридических лиц, филиалов и представительств1
A4: (на 1 января)
B5: 2019 | C5: 2020 | D5: 2021 | E5: 2022 | F5: 2023
A6: Всего | B6: 3533 | C6: 3707 | D6: 3925 | E6: 3987 | F6: 5322
A7: Сельское хозяйство, лесное хозяйство и рыболовство. | B7: 269 | C7: 258 | D7: 274 | E7: 304 | F7: 321
A8: Добыча полезных ископаемых | B8: 46 | C8: 47 | D8: 66 | E8: 65 | F8: 77
A9: Обрабатывающие производства (Обрабатывающие промышленность) | B9: 90 | C9: 95 | D9: 113 | E9: 105 | F9: 108
A10: Обеспечение (снабжение) электроэнергией, газом, паром и кондициронированным воздухом. | B10: 5 | C10: 5 | D10: 5 | E10: 5 | F10: 14
A11: Водоснабжение, очистка, обработка отходов и получение вторичного сырья. | B11: 73 | C11: 82 | D11: 94 | E11: 96 | F11: 108
A12: Строительство | B12: 80 | C12: 92 | D12: 136 | E12: 133 | F12: 143
A13: Оптовая и розничная торговля, ремонт автомобилейи мотоциклов. | B13: 99 | C13: 107 | D13: 145 | E13: 144 | F13: 292
A14: Транспортная деятельность и хранение грузов. | B14: 62 | C14: 65 | D14: 86 | E14: 84 | F14: 200
A15: Деятельность гостиниц и ресторанов. | B15: 3 | C15: 4 | D15: 4 | E15: 4 | F15: 5
A16: Информация и связь | B16: 21 | C16: 22 | D16: 22 | E16: 23 | F16: 73
A17: Финансовое посредничество и страхование | B17: 125 | C17: 131 | D17: 146 | E17: 151 | F17: 168
... A25: Прочая обслуживающая деятельность. | B25: 1204 | C25: 1245 | D25: 1218 | E25: 1223 | F25: 1579
A26: Деятельность экстерриториальных организаций | B26: - | C26: - | D26: - | E26: - | F26: -
A30: 2.2 Количество действующих юридических лиц, филиалов и представительств1 по территории
A31: (на 1 января)
B32: 2019 | C32: 2020 | D32: 2021 | E32: 2022 | F32: 2023
A33: Ошская область | B33: 3533 | C33: 3707 | D33: 3925 | E33: 3987 | F33: 5322
A34: Алайский район | B34: 266 | C34: 333 | D34: 345 | E34: 347 | F34: 443
A35: Араванский район | B35: 489 | C35: 503 | D35: 493 | E35: 483 | F35: 619
A36: Кара-Сууский район | B36: 1087 | C36: 1144 | D36: 1301 | E36: 1323 | F36: 1600
A37: Ноокатский район | B37: 681 | C37: 684 | D37: 694 | E37: 731 | F37: 981
A38: Кара-Кулжинский район | B38: 295 | C38: 304 | D38: 306 | E38: 304 | F38: 422
A39: Узгенский район | B39: 586 | C39: 604 | D39: 659 | E39: 672 | F39: 1054
A40: Чон-Алайский район | B40: 129 | C40: 135 | D40: 127 | E40: 127 | F40: 203
A43: 2.3 Количество действующих юридических лиц, филиалов и представительств1 по формам собственности
A44: (на 1 января)
B45: 2019 | C45: 2020 | D45: 2021 | E45: 2022 | F45: 2023
A46: Всего | B46: 3533 | C46: 3707 | D46: 3925 | E46: 3987 | F46: 5322
A47: Государственная собственность | B47: 1142 | C47: 1201 | D47: 1232 | E47: 1252 | F47: 1779
A48: Муниципальная (коммунальная) собственность | B48: 247 | C48: 250 | D48: 253 | E48: 261 | F48: 426
A49: Частная собственность | B49: 2143 | C49: 2256 | D49: 2440 | E49: 2474 | F49: 3117
A50: Иные формы собственности | B50: 1 | C50: 1 | D50: 1 | E50: 0 | F50: 0
A53: 2.4 Количество юридических лиц, филиалов и представительств1 по признакам активности
A54: (на 1 января)
B55: 2019 | C55: 2020 | D55: 2021 | E55: 2022 | F55: 2023
...

Sheet ВРП И СНС
A1: 3. ВАЛОВЫЙ РЕГИОНАЛЬНЫЙ ПРОДУКТ (ВРП)
A2: 3.1. Валовой региональный продукт (ВРП)
A3: (миллион сомов)
B4: 2019 | C4: 2020 | D4: 2021 | E4: 2022 | F4: 2023
A5: Валовой региональный продукт | B5: 47588.8 | C5: 50996.5 | D5: 60550.7 | E5: 77621.9 | F5: 96701
A6: Валовой региональный стоимость | B6: 12805.7 | C6: 15529.8 | D6: 19625.8 | E6: 23151.6 | F6: 25221.9
A7: Сельское хозяйство, лесное хозяйство и рыбоводство | B7: 1239.5 | C7: 539.5 | D7: 1519.8 | E7: 1034 | F7: 1315
A8: Добыча полезных ископаемых | B8: 3810.4 | C8: 4096.7 | D8: 5139.8 | E8: 6850 | F8: 8155.9
A9: Обрабатывающие производства | B9: 116.5 | C9: 461.6 | D9: 105.5 | E9: 256.3 | F9: 535.2
A10: Обеспечение (снабжение) электроэнергией, паром и кондицированным воздухом | B10: 54.8 | C10: 63.9 | D10: 67.1 | E10: 80.2 | F10: 111
A11: Водоснабжение, очистка, обработка отходов и получение вторичного сырья | B11: 2618.2 | C11: 2308.5 | D11: 1210.5 | E11: 4037.8 | F11: 7050.7
A12: Строительство | B12: 10305.8 | C12: 8966.7 | D12: 11879.8 | E12: 11904.4 | F12: 17195.2
A13: Оптовая и розничная торговля, ремонт автомобилей и мотоциклов | B13: 442.6 | C13: 695.5 | D13: 791 | E13: 1014.4 | F13: 1051.7
A14: Транспортная деятельность и хранение грузов | B14: 372.7 | C14: 549.2 | D14: 545.5 | E14: 677 | F14: 1026.9
A15: Деятельность гостиниц и ресторанов | B15: 10.9 | C15: 12.7 | D15: 21.2 | E15: 24.9 | F15: 15.3
A16: Информация и связь | B16: 1301.8 | C16: 1436.1 | D16: 1477.5 | E16: 4184.1 | F16: 4621.5
... A24: Искусство, развлечение и отдых | B24: 310.5 | C24: 238.9 | D24: 339.2 | E24: 322.1 | F24: 384.4
A25: Прочая обслуживающая деятельность | B25: - | C25: - | D25: - | E25: - | F25: -
A26: Косвенно измеряемые услуги финансового посредничества | B26: 24.6 | C26: 12.4 | D26: 28.9 | E26: 36.7 | F26: 36
A27: Чистые налоги на продукты | B27: 685.9 | C27: 695.5 | D27: 1022.8 | E27: 1290.3 | F27: 2432.7
A30: 3.2. Валовой региональный продукт (ВРП)
A31: (в процентах к предыдущему году)
B32: 2019 | C32: 2020 | D32: 2021 | E32: 2022 | F32: 2023
A34: Валовой региональный продукт | B34: 103.2 | C34: 92.6 | D34: 109.1 | E34: 104.7 | F34: 106.7
A35: Сельское хозяйство, лесное хозяйство и рыбоводство | B35: 102.2 | C35: 101.1 | D35: 101 | E35: 102.9 | F35: 101.7
A36: Добыча полезных ископаемых | B36: 105.6 | C36: 37.2 | D36: 159.3 | E36: 81.4 | F36: 152.1
A37: Обрабатывающие производства | B37: 112.2 | C37: 95.5 | D37: 139.6 | E37: 103.5 | F37: 109.6
A38: Обеспечение (снабжение) электроэнергией, паром и кондицированным воздухом | B38: 102 | C38: 101.1 | D38: 97 | E38: 102.3 | F38: 126.6
A39: Водоснабжение, очистка, обработка отходов и получение вторичного сырья | B39: 93.6 | C39: 97.4 | D39: 102.5 | E39: 113.4 | F39: 116.3
A40: Строительство | B40: 112.6 | C40: 89 | D40: 111.1 | E40: 161.5 | F40: 120
A41: Оптовая и розничная торговля, ремонт автомобилей и мотоциклов | B41: 104 | C41: 82.7 | D41: 116.9 | E41: 109.9 | F41: 115.1
A42: Транспортная деятельность и хранение грузов | B42: 101 | C42: 92.9 | D42: 91.2 | E42: 99.7 | F42: 110.1
A43: Деятельность гостиниц и ресторанов | B43: 103.3 | C43: 73.9 | D43: 109 | E43: 109.1 | F43: 110.9
A44: Информация и связь | B44: 102.4 | C44: 56 | D44: 144.1 | E44: 114.2 | F44: 130.5
A45: Финансовое посредничество и страхование | B45: 58 | C45: 66.8 | D45: 134.4 | E45: 102.8 | F45: 104.7
... A53: Прочая обслуживающая деятельность | B53: 110.8 | C53: 89.2 | D53: 89.3 | E53: 92.1 | F53: 117.9
A54: Косвенно измеряемые услуги финансового посредничества | B54: 97.7 | C54: - | D54: - | E54: - | F54: -
A55: Чистые налоги на продукты | B55: 103.2 | C55: 93.4 | D55: 122.1 | E55: 111.4 | F55: 113.4
A58: 3.3. Основные фонды по полной стоимости
A59: (на конец года; миллионов сомов)
...

Sheet пром1
A1: 4. ПРОМЫШЛЕННОСТЬ
A2: 4.1. Объем производства промышленной продукции по видам экономической
A3: деятельности (без учета стоимости давальческого сырья)
A4: (миллион сомов)
B5: 2019 | C5: 2020 | D5: 2021 | E5: 2022 | F5: 2023
A6: Всего | B6: 10385.6 | C6: 9457.8 | D6: 13463.8 | E6: 14596.6 | F6: 17317.6
A7: Добыча полезных ископаемых | B7: 2463.3 | C7: 1137.7 | D7: 2401.6 | E7: 2393.2 | F7: 3852.8
A8: Добыча каменного угля и бурого угля (лигнита) | B8: 1131.7 | C8: 834.5 | D8: 1419 | E8: 1833.2 | F8: 2127.1
A9: Добыча металлических руд | B9: 1036.9 | C9: 50.2 | D9: 617.9 | E9: 171.7 | F9: 786.8
A10: Добыча прочих полезных ископаемых | B10: 294.7 | C10: 253 | D10: 364.7 | E10: 388.3 | F10: 939
A11: Обрабатывающие производства | B11: 6724 | C11: 7008.5 | D11: 9662.3 | E11: 10713.7 | F11: 11617.8
A12: Производство пищевых продуктов (включая напитки) и табачных изделий | B12: 534 | C12: 423.5 | D12: 501.8 | E12: 665.1 | F12: 610.3
A13: Текстильное производство; производство одежды и обуви, кожи и прочих кожаных изделий | B13: 423.2 | C13: 424.2 | D13: 676.4 | E13: 756.7 | F13: 687.4
A14: Производство деревянных и бумажных изделий; полиграфическая деятельность | B14: 130.6 | C14: 134 | D14: 169 | E14: 314.7 | F14: 275.8
A15: Производство кокса и очищенных нефтепродуктов | B15: - | C15: - | D15: - | E15: - | F15: -
A16: Производство химической продукции | B16: 1.7 | C16: 1.4 | D16: 1.9 | E16: 1.9 | F16: 1.2
A17: Производство фармацевтической продукции | B17: 33.1 | C17: 7.2 | D17: - | E17: - | F17: -
A18: Производство резиновых и пластмассовых изделий, прочих неметаллических минеральных продуктов | B18: 5514.4 | C18: 5911.7 | D18: 8189.8 | E18: 8828.7 | F18: 9890.6
A19: Производство основных металлов и готовых металлических изделий, кроме машин и оборудования | B19: 18.4 | C19: 37 | D19: 33.2 | E19: 18.4 | F19: 23.8
A20: Производство электрического оборудования | B20: 35.7 | C20: 45.2 | D20: 63.2 | E20: 89 | F20: 67.8
A21: Прочие производства, ремонт и установка машин и оборудования | B21: 32.9 | C21: 24.3 | D21: 27 | E21: 39.2 | F21: 60.8
A22: Обеспечение (снабжение) электроэнергией, газом, паром и кондиционированным воздухом | B22: 1091.1 | C22: 1197.5 | D22: 1275.4 | E22: 1338.1 | F22: 1630.1
A23: Производство электроэнергии, ее передача и распределение | B23: 1083 | C23: 1186.2 | D23: 1265 | E23: 1323.3 | F23: 1615.7
A24: Обеспечение (снабжение) паром и кондиционированным воздухом | B24: 8.1 | C24: 11.3 | D24: 10.4 | E24: 14.7 | F24: 14.4
A25: Водоснабжение, очистка, обработка отходов и получение вторичного сырья | B25: 107.2 | C25: 114.1 | D25: 124.5 | E25: 151.6 | F25: 216.8
A26: Сбор, обработка и распределение воды (водоснабжение) | B26: 77.2 | C26: 80.7 | D26: 84.4 | E26: 100.5 | F26: 133.7
A27: Сбор, обработка и уничтожение отходов, получение вторичного сырья | B27: 30 | C27: 33.4 | D27: 36.7 | E27: 45.2 | F27: 73.8
A28: Обеззараживание и прочая обработка отходов | B28: - | C28: - | D28: 3.4 | E28: 5.9 | F28: 9.3
A31: 4.2. Объем производства промышленной продукции по территории
A32: (миллион сомов)
B33: 2019 | C33: 2020 | D33: 2021 | E33: 2022 | F33: 2023
A35: Ошская область | B35: 10385.6 | C35: 9457.8 | D35: 13463.8 | E35: 14596.6 | F35: 17317.6
A36: районы:
A37: Алайский | B37: 623.7 | C37: 355.5 | D37: 674.2 | E37: 719.7 | F37: 578.9
A38: Араванский | B38: 3187.2 | C38: 3834.4 | D38: 4382.5 | E38: 4337.2 | F38: 5245.6
A39: Кара-Кулжинский | B39: 79.6 | C39: 84.4 | D39: 89.5 | E39: 101.8 | F39: 120.3
A40: Кара-Сууский | B40: 1637.1 | C40: 1688.9 | D40: 2161.8 | E40: 2790.9 | F40: 3322.5
A41: в т.ч. г.Кара-Суу | B41: 462.9 | C41: 443 | D41: 478.6 | E41: 366.4 | F41: 603.3
A42: Ноокатский | B42: 2797.7 | C42: 2467.1 | D42: 4164.7 | E42: 4692.7 | F42: 5058.6
A43: в т.ч.г. Ноокат | B43: 13.1 | C43: 9.6 | D43: 17.7 | E43: 12 | F43: 43.1
...

Sheet пром2
A1: 4.3. Индексы физического объема промышленной продукции
A2: по видам экономической деятельности
A3: (в процентах к предыдущему году)
B4: 2019 | C4: 2020 | D4: 2021 | E4: 2022 | F4: 2023
A5: Всего | B5: 112.3 | C5: 82.4 | D5: 133.6 | E5: 104.9 | F5: 117.1
A6: Добыча полезных ископаемых | B6: 108.2 | C6: 34 | D6: 201 | E6: 99 | F6: 160.7
A7: Добыча каменного угля и бурого угля (лигнита) | B7: 112.5 | C7: 72.3 | D7: 157.4 | E7: 110.5 | F7: 112.5
A8: Добыча металлических руд | B8: 101 | C8: 5.7 | D8: 764.1 | E8: 25.6 | F8: 540.3
A9: Добыча прочих полезных ископаемых | B9: 119.2 | C9: 83.4 | D9: 116.8 | E9: 93.5 | F9: 130.2
A10: Обрабатывающие производства | B10: 112.9 | C10: 94.5 | D10: 126.4 | E10: 105.9 | F10: 105.8
A11: Производство пищевых продуктов (включая напитки) и табачных изделий | B11: 109.2 | C11: 87.5 | D11: 102.9 | E11: 96.8 | F11: 108.4
A12: Текстильное производство; производство одежды и обуви, кожи и прочих кожаных изделий | B12: 97.1 | C12: 100.1 | D12: 124.8 | E12: 97.3 | F12: 97.2
A13: Производство деревянных и бумажных изделий; полиграфическая деятельность | B13: 139.5 | C13: 114.9 | D13: 118 | E13: 168.3 | F13: 92.6
A14: Производство химической продукции | B14: 631.7 | C14: 60.7 | D14: 349 | E14: 90.4 | F14: 48.8
A15: Производство резиновых и пластмассовых изделий, прочих неметаллических минеральных продуктов | B15: 113.3 | C15: 95.1 | D15: 131.5 | E15: 107.8 | F15: 106.8
A16: Производство основных металлов и готовых металлических изделий, кроме машин и оборудования | B16: 82.2 | C16: 84.4 | D16: 143 | E16: 77 | F16: 137.2
A17: Производство электрического оборудования | B17: 267.1 | C17: 126.2 | D17: 121 | E17: 121.5 | F17: 55.9
A18: Производство машин и оборудования | B18: 71.4 | C18: 96.3 | D18: 112.1 | E18: 117.2 | F18: -
A19: Прочие производства, ремонт и установка машин и оборудования | B19: 100.6 | C19: 72.9 | D19: 71.9 | E19: 197.7 | F19: 153.7
A20: Обеспечение (снабжение) электроэнергией, газом, паром и кондиционированным воздухом | B20: 101.7 | C20: 101.5 | D20: 95.5 | E20: 104.6 | F20: 126.6
A21: Производство электроэнергии, ее передача и распределение | B21: 102.1 | C21: 101.8 | D21: 94.9 | E21: 104.7 | F21: 127.4
A22: Обеспечение (снабжение) паром и кондиционированным воздухом | B22: 93 | C22: 85 | D22: 114.6 | E22: 95.7 | F22: 126.6
A23: Водоснабжение, очистка, обработка отходов и получение вторичного сырья | B23: 93.7 | C23: 97.6 | D23: 103.3 | E23: 111.9 | F23: 121.1
A24: Сбор, обработка и распределение воды (водоснабжение) | B24: 101 | C24: 97.7 | D24: 98.6 | E24: 110.3 | F24: 109.7
A25: Сбор, обработка и уничтожение отходов получение вторичного сырья | B25: 78.7 | C25: 98.4 | D25: 110.5 | E25: 116.4 | F25: 148.4
A26: Обеззараживание и прочая обработка отходов | B26: - | C26: - | D26: - | E26: - | F26: -
A28: 4.4. Индексы физического объема промышленной продукции по территории
A29: (в процентах к предыдущему году)
B30: 2019 | C30: 2020 | D30: 2021 | E30: 2022 | F30: 2023
A32: Ошская область | B32: 112.3 | C32: 82.4 | D32: 133.6 | E32: 104.9 | F32: 117.1
A33: районы:
A34: Алайский | B34: 105.2 | C34: 56.1 | D34: 187.1 | E34: 105.5 | F34: 81.6
A35: Араванский | B35: 147.4 | C35: 103.3 | D35: 104.1 | E35: 102.9 | F35: 110.9
A36: Кара-Кулжинский | B36: 103.2 | C36: 99.3 | D36: 99.2 | E36: 101.2 | F36: 109.7
A37: Кара-Сууский | B37: 113.1 | C37: 104.4 | D37: 106.3 | E37: 107 | F37: 111.4
A38: Ноокатский | B38: 86.4 | C38: 77.3 | D38: 153.3 | E38: 111.9 | F38: 105.8
A39: Узгенский | B39: 106.1 | C39: 90.3 | D39: 121.4 | E39: 103.7 | F39: 115.2
A40: Чон-Алайский | B40: 102.9 | C40: 11.9 | D40: 151.5 | E40: 53.4 | F40: 238.7

Sheet пром3
A1: 4.5. Производство основных видов промышленной продукции
A2: по видам экономической деятельности
B3: Ед. изм. | C3: 2019 | D3: 2020 | E3: 2021 | F3: 2022 | G3: 2023
A5: Уголь каменный и лигнит | B5: тыс.т | C5: 810.8 | D5: 535.1 | E5: 875.2 | F5: 977 | G5: 1001.6
A6: Мясо и пищевые субпродукты | B6: т | C6: 5033.9 | D6: 4706.1 | E6: 5061.6 | F6: 4476.2 | G6: 4945.7
A7: Колбасные изделия | B7: т | C7: 14.9 | D7: 19.5 | E7: 31.4 | F7: 30.1 | G7: 20.9
A8: Молоко и сливки в твердых формах | B8: т | C8: - | D8: - | E8: - | F8: - | G8: 90
A9: Мороженое и продукты аналогичные замороженные | B9: т | C9: 45.6 | D9: 39.6 | E9: 29.6 | F9: 42.8 | G9: 39.7
A10: Рис очищенный | B10: т | C10: 1366.6 | D10: 1177 | E10: 1115.8 | F10: 1066.4 | G10: 1030.2
A11: Мука из зерновых культур1 | B11: тыс.т | C11: 28.4 | D11: 25 | E11: 17.8 | F11: 20.5 | G11: 22.3
A12: Масло растительное | B12: т | C12: 751.6 | D12: 508.7 | E12: 402.4 | F12: 366.4 | G12: 404.1
A13: Хлеб свежий | B13: тыс.т | C13: 5.8 | D13: 4.9 | E13: 5.3 | F13: 5.3 | G13: 5.5
A14: Макароны, лапша, кускус и изделия мучные аналогичные | B14: т | C14: 114.3 | D14: 104.4 | E14: 78 | F14: 75.9 | G14: 79.2
A15: Фрукты, овощи и грибы переработанные и консервированные | B15: т | C15: 168 | D15: 87 | E15: 119.2 | F15: 77.7 | G15: 19.6
A16: Сухари и печенье; кондитерские изделия и пирожные длительного хранения | B16: т | C16: 505.7 | D16: 389.6 | E16: 444 | F16: 402.6 | G16: 358.1
A17: Пиво | B17: тыс.л. | C17: 194.7 | D17: 88 | E17: 176.1 | F17: 286 | G17: 447.9
A18: Безалкогольные напитки | B18: тыс.л. | C18: 44 | D18: 45.1 | E18: 310.5 | F18: 144.2 | G18: 112.2
A19: Воды минеральные , газированные, неподслащенные и неароматизированные | B19: тыс.л. | C19: 770.9 | D19: 217.4 | E19: 526 | F19: 1123.2 | G19: 322
A20: Табак промышленно изготовленный и его заменители | B20: т | C20: 278 | D20: - | E20: 107 | F20: 96.6 | G20: 33
A21: Волокно хлопковое кардо и гребнечесанное | B21: т | C21: 8372.2 | D21: 8368.9 | E21: 8258.9 | F21: 9730.3 | G21: 9058.4
A22: Одежда верхняя, кроме трикотажной, мужская и для мальчиков | B22: тыс.шт | C22: 4.9 | D22: 3.5 | E22: 29.4 | F22: 60.2 | G22: 112.2
A23: Одежда верхняя, кроме трикотажной, женская и для девочек | B23: тыс.шт | C23: 54.4 | D23: 41.9 | E23: 50.3 | F23: 97.9 | G23: 70.8
A24: Обувь | B24: пар | C24: 2554109 | D24: 2217528 | E24: 4524666 | F24: 2981778 | G24: 2521598
A25: Цемент | B25: тыс.т | C25: 1334.7 | D25: 1277.2 | E25: 1720.4 | F25: 1858 | G25: 1926.1
A26: Кирпичи керамические, неогнеупорные, строительные | B26: тыс.шт | C26: 18962 | D26: 15584.8 | E26: 18767.8 | F26: 21528.6 | G26: 22816.9
A27: Мебель | B27: млн.сом | C27: 32.9 | D27: 24.3 | E27: 26.9 | F27: 27.6 | G27: 28.4
A28: Вода природная | B28: т.куб.м | C28: 10657.3 | D28: 9372 | E28: 8912.9 | F28: 10647.3 | G28: 10534.9
A30: 4.6. Объем производства промышленной продукции по типам предприятий
A31: (миллион сомов)
C32: 2019 | D32: 2020 | E32: 2021 | F32: 2022 | G32: 2023
A33: Промышленность - всего | C33: 10385.6 | D33: 9457.8 | E33: 13463.8 | F33: 14596.6 | G33: 17317.6
A34: в том числе по типам предприятий:
A35: малые предприятия | C35: 2767.9 | D35: 1518.3 | E35: 2226.5 | F35: 2892.8 | G35: 3914.1
A36: средние предприятия | C36: 1514.1 | D36: 1746 | E36: 2463.1 | F36: 2228.3 | G36: 3068
A37: крупные предприятия | C37: 5503.6 | D37: 5648.2 | E37: 8133.9 | F37: 8683.5 | G37: 9354
A38: индивидуальные предприниматели*) | C38: 600 | D38: 529.2 | E38: 640.3 | F38: 792 | G38: 981.5
A40: *) Объемы по индивидуальным предприятиям приведены с учетом скрытого производства муки и хлеба

Sheet сх1
A1: 5. СЕЛЬСКОЕ ХОЗЯЙСТВО
A2: 5.1. Количество субъектов сельского хозяйства
A3: ( единиц)
B4: 2019 | C4: 2020 | D4: 2021 | E4: 2022 | F4: 2023
A6: Государственные хозяйства | B6: 10 | C6: 11 | D6: 15 | E6: 18 | F6: 17
A7: Коллективные хозяйства | B7: 31 | C7: 47 | D7: 63 | E7: 95 | F7: 63
A8: Крестьянские (фермерские) хозяйства | B8: 125170 | C8: 127897 | D8: 128771 | E8: 133856 | F8: 13548
A11: 5.2. Площадь сельскохозяйственных угодий
A12: ( на 1 января,гектаров)
B13: 2019 | C13: 2020 | D13: 2021 | E13: 2022 | F13: 2023
A15: Сельскохозяйственные угодья - всего | B15: 1668789 | C15: 1668789 | D15: 1668413 | E15: 1667359 | F15: 1666079
A16: Пашня | B16: 184808 | C16: 184808 | D16: 184638 | E16: 184185 | F16: 183398
A17: Многолетние насаждения | B17: 14536 | C17: 14536 | D17: 14564 | E17: 14505 | F17: 14529
A18: Залежь | B18: 2473 | C18: 2473 | D18: 2473 | E18: 2473 | F18: 2464
A19: Сенокосы | B19: 75502 | C19: 75502 | D19: 75511 | E19: 75605 | F19: 75738
A20: Пастбища | B20: 1391470 | C20: 1391470 | D20: 1391227 | E20: 1390591 | F20: 1389950
A23: 5.3. Особо охраняемые территории
A24: (процентах)
B25: 2019 | C25: 2020 | D25: 2021 | E25: 2022 | F25: 2023
A27: Всего | B27: 0.9 | C27: 0.9 | D27: 0.9 | E27: 0.9 | F27: 0.9
A29: 5.4. Обьем валового выпуска продукции сельского хозяйства, лесного хояйства и рыболовства
A30: (в действующих ценах, миллионов сомов)
B31: 2019 | C31: 2020 | D31: 2021 | E31: 2022 | F31: 2023
A33: Всего | B33: 41851.7 | C33: 49208.2 | D33: 63958 | E33: 71999.4 | F33: 74681
A34: Сельское хозяйство | B34: 41175.8 | C34: 47853.3 | D34: 62370.9 | E34: 70386.7 | F34: 72726.9
A35: Растениеводство | B35: 18849.9 | C35: 22283.7 | D35: 31297.3 | E35: 35891.6 | F35: 35263.2
A36: Животноводство | B36: 22325.9 | C36: 25569.6 | D36: 31073.6 | E36: 34495.1 | F36: 37463.7
A37: Услуги, оказанные сельскому хозяйству | B37: 639.9 | C37: 1318 | D37: 1545.7 | E37: 1554.1 | F37: 1890.4
A38: Охота и лесное хозяйство | B38: 32.9 | C38: 30.1 | D38: 34.2 | E38: 51.3 | F38: 54.6
A39: Рыболовство | B39: 3.1 | C39: 6.8 | D39: 7.2 | E39: 7.3 | F39: 9.1
A41: 5.5. Индекс физического объема продукции сельского хозяйства, лесного хозяйства и рыболовства
A42: ( в процентах)
B43: 2019 | C43: 2020 | D43: 2021 | E43: 2022 | F43: 2023
A45: Продукция (товары и услуги) селького хозяйства, охоты и лесного хозяйства | B45: 102.3 | C45: 101 | D45: 100.9 | E45: 102.8 | F45: 101.7
A46: из нее:
A47: растениеводство | B47: 103.2 | C47: 100.1 | D47: 99.6 | E47: 104.3 | F47: 100.8
A48: животноводство | B48: 101.8 | C48: 101.9 | D48: 102 | E48: 101.4 | F48: 102
A50: 5.6. Посевная площадь основных видов сельскохозяйственных культур
A51: (гектар)
B52: 2019 | C52: 2020 | D52: 2021 | E52: 2022 | F52: 2023
...

Sheet Строит2
A1: 6. СТРОИТЕЛЬСТВО
A2: 6.1. Объем подрядных работ, выполненных строительными
A3: организациями, по формам собственности и территории1
A4: (миллион сомов)
B5: 2019 | C5: 2020 | D5: 2021 | E5: 2022 | F5: 2023
A7: Всего | B7: 4531.9 | C7: 4251.6 | D7: 4961.2 | E7: 5297.1 | F7: 7733
A8: районы:
A9: Алайский | B9: 252.9 | C9: 212.4 | D9: 249.5 | E9: 364.3 | F9: 433.8
A10: Араванский | B10: 616.3 | C10: 541.9 | D10: 664.8 | E10: 693.3 | F10: 1021.2
A11: Кара-Кулжинский | B11: 104.4 | C11: 100.4 | D11: 55.3 | E11: 84.6 | F11: 116.8
A12: Кара-Суйский | B12: 2020.8 | C12: 1813.4 | D12: 2146.9 | E12: 2184.4 | F12: 3310
A13: Ноокатский | B13: 741.1 | C13: 760.7 | D13: 898.7 | E13: 917.5 | F13: 1413.7
A14: Узгенский | B14: 765.3 | C14: 816.2 | D14: 936.7 | E14: 1039.5 | F14: 1418.2
A15: Чон-Алайский | B15: 31.1 | C15: 6.6 | D15: 9.3 | E15: 13.5 | F15: 19.3
A17: Государственная | B17: 360.1 | C17: 234.9 | D17: 147 | E17: 575.8 | F17: 454.7
A18: районы:
A19: Алайский | B19: 63.9 | C19: 35.5 | D19: 37.6 | E19: 156.6 | F19: 113.5
A20: Араванский | B20: 30.7 | C20: 3.7 | D20: 19.7 | E20: 60.6 | F20: 45.9
A21: Кара-Кулжинский | B21: 69.5 | C21: 68.3 | D21: 16.7 | E21: 46.8 | F21: 58.6
A22: Кара-Суйский | B22: 44.4 | C22: 26 | D22: 4.7 | E22: 83.4 | F22: 71.2
A23: Ноокатский | B23: 40.3 | C23: 21.7 | D23: 12.9 | E23: 48.8 | F23: 74.5
A24: Узгенский | B24: 80.2 | C24: 73.1 | D24: 46.1 | E24: 166.1 | F24: 71.7
A25: Чон-Алайский | B25: 31.1 | C25: 6.6 | D25: 9.3 | E25: 13.5 | F25: 19.3
A27: Частная | B27: 4171.8 | C27: 4016.7 | D27: 4814.2 | E27: 4721.3 | F27: 7278.3
A28: районы:
A29: Алайский | B29: 189 | C29: 176.9 | D29: 211.9 | E29: 207.7 | F29: 320.3
A30: Араванский | B30: 585.6 | C30: 538.2 | D30: 645.1 | E30: 632.7 | F30: 975.3
A31: Кара-Кулжинский | B31: 34.9 | C31: 32.1 | D31: 38.6 | E31: 37.8 | F31: 58.2
A32: Кара-Суйский | B32: 1976.4 | C32: 1787.4 | D32: 2142.2 | E32: 2101 | F32: 3238.8
A33: Ноокатский | B33: 700.8 | C33: 739 | D33: 885.8 | E33: 868.7 | F33: 1339.2
A34: Узгенский | B34: 685.1 | C34: 743.1 | D34: 890.6 | E34: 873.4 | F34: 1346.5
A37: 1) Включая капитальный и текущий ремонты
A39: 6.2. Капитальный и текущий ремонт, выполненный строительными
A40: организациями, по формам собственности и территории
A41: (миллион сомов)
B42: 2019 | C42: 2020 | D42: 2021 | E42: 2022 | F42: 2023
A44: Всего | B44: 2967.2 | C44: 2652.4 | D44: 2997.9 | E44: 3309 | F44: 5208
A45: районы:
A46: Алайский | B46: 185.9 | C46: 142.9 | D46: 163.3 | E46: 280.5 | F46: 325.8
A47: Араванский | B47: 382.8 | C47: 331 | D47: 402.3 | E47: 438 | F47: 692.4
...

Sheet Груз
A1: 7. ТРАНСПОРТ
A2: Грузовые перевозки
A3: 7.1. Перевозки грузов автомобильным транспортом
A4: (тысяч тонн)
B5: 2019 | C5: 2020 | D5: 2021 | E5: 2022 | F5: 2023
A7: Всего | B7: 2571.6 | C7: 2424.2 | D7: 2580.4 | E7: 2680.1 | F7: 2756.8
A10: 7.2. Перевозки грузов автомобильным транспортом по территории
A11: (тысяч тонн)
B12: 2019 | C12: 2020 | D12: 2021 | E12: 2022 | F12: 2023
A14: Ошская область | B14: 2571.6 | C14: 2424.2 | D14: 2580.4 | E14: 2680.1 | F14: 2756.8
A15: районы:
A16: Алайский | B16: 165.1 | C16: 146.6 | D16: 156.8 | E16: 158 | F16: 158.2
A17: Араванский | B17: 295.4 | C17: 250.6 | D17: 262.9 | E17: 263.3 | F17: 267.7
A18: Кара-Кулжинский | B18: 37.9 | C18: 35.8 | D18: 37.6 | E18: 42.4 | F18: 50.4
A19: Кара-Сууский | B19: 1124.5 | C19: 1070.7 | D19: 1176.2 | E19: 1199.6 | F19: 1251.9
A20: в т.ч. г. Кара-Суу | B20: 263.3 | C20: 249.2 | D20: 282.6 | E20: 285.5 | F20: 299.9
A21: Ноокатский | B21: 441 | C21: 409.9 | D21: 423.7 | E21: 455.5 | F21: 461.8
A22: в т.ч. г.Ноокат | B22: 104.1 | C22: 92 | D22: 95.1 | E22: 102.2 | F22: 103.6
A23: Узгенский | B23: 381.4 | C23: 385.8 | D23: 396.3 | E23: 433.6 | F23: 439
A24: в т.ч. г. Узген | B24: 128.9 | C24: 127.8 | D24: 131.2 | E24: 143.5 | F24: 145.2
A25: Чон-Алайский | B25: 126.3 | C25: 124.8 | D25: 126.9 | E25: 127.7 | F25: 127.8
A28: 7.3. Грузооборот автомобильного транспорта
A29: (млн. тонно-километров)
B30: 2019 | C30: 2020 | D30: 2021 | E30: 2022 | F30: 2023
A32: Всего | B32: 135 | C32: 124.7 | D32: 138.2 | E32: 151.6 | F32: 164.5
A35: 7.4. Доходы от перевозок грузов автомобильным транспортом
B36: (миллионов сомов)
B37: 2019 | C37: 2020 | D37: 2021 | E37: 2022 | F37: 2023
A39: Всего | B39: 71.4 | C39: 65.7 | D39: 73.2 | E39: 80.2 | F39: 87.1
A42: Пассажирские перевозки
A43: 7.5. Перевозки пассажиров автомобильным транспортом (тысяч человек)
B45: 2019 | C45: 2020 | D45: 2021 | E45: 2022 | F45: 2023
A47: Всего | B47: 26512.9 | C47: 24055.3 | D47: 25225.7 | E47: 25808 | F47: 26322.8
A48: автобусы | B48: 24602.8 | C48: 22161.4 | D48: 23381 | E48: 23886.5 | F48: 24135.3
A49: такси | B49: 1910.1 | C49: 1893.9 | D49: 1844.7 | E49: 1921.5 | F49: 2187.5

Sheet Пассаж
A1: 7.6. Перевозки пассажиров автомобильным транспортом по территории
A2: (тысяч человек)
B3: 2019 | C3: 2020 | D3: 2021 | E3: 2022 | F3: 2023
A5: Ошская область | B5: 26512.9 | C5: 24055.3 | D5: 25225.7 | E5: 25808 | F5: 26322.8
A6: районы:
A7: Алайский | B7: 168 | C7: 160.4 | D7: 171.5 | E7: 175.3 | F7: 177
A8: Араванский | B8: 1940.5 | C8: 1943.5 | D8: 2082.8 | E8: 2100.9 | F8: 2184.7
A9: Кара-Кулжинский | B9: 440.1 | C9: 436.5 | D9: 439 | E9: 482.9 | F9: 498.2
A10: Кара-Сууский | B10: 20584.7 | C10: 18132.9 | D10: 19017.2 | E10: 19409.7 | F10: 19608.5
A11: в т.ч. г. Кара-Суу | B11: 5146.2 | C11: 4531.4 | D11: 4755 | E11: 4914.9 | F11: 4970.5
A12: Ноокатский | B12: 2363.4 | C12: 2458.2 | D12: 2584.2 | E12: 2588.1 | F12: 2746.4
A13: в т.ч. г.Ноокат | B13: 550.7 | C13: 572.7 | D13: 601.8 | E13: 613.7 | F13: 654.7
A14: Узгенский | B14: 958 | C14: 872.5 | D14: 877.5 | E14: 995.9 | F14: 1051.7
A15: в т.ч. г. Узген | B15: 280.7 | C15: 255.4 | D15: 257 | E15: 291.2 | F15: 307.6
A16: Чон-Алайский | B16: 58.2 | C16: 51.3 | D16: 53.5 | E16: 55.2 | F16: 56.3
A18: 7.7. Пассажирооборот автомобильного транспорта
A19: (миллионов пассажиро-километров)
B20: 2019 | C20: 2020 | D20: 2021 | E20: 2022 | F20: 2023
A22: Всего | B22: 600 | C22: 549.5 | D22: 560.9 | E22: 594.4 | F22: 670
A23: автобусы | B23: 521.8 | C23: 477.9 | D23: 472.9 | E23: 503.7 | F23: 577
A24: такси | B24: 78.2 | C24: 71.6 | D24: 88.1 | E24: 90.7 | F24: 92.9
A28: 7.8. Доходы от перевозок пассажиров автомобильным транспортом
A29: (миллионов сомов)
B30: 2019 | C30: 2020 | D30: 2021 | E30: 2022 | F30: 2023
A32: Всего | B32: 1217.6 | C32: 1114.4 | D32: 1326.7 | E32: 1373 | F32: 1429.8
A34: автобусы | B34: 200.5 | C34: 183.7 | D34: 181.7 | E34: 193.6 | F34: 221.8
A35: такси | B35: 1017.1 | C35: 930.8 | D35: 1145 | E35: 1179.4 | F35: 1208.1
A36: Аварийность на транспорте
A37: 7.9. Дорожно-транспортные происшествия с подвижным составом и численность пострадавших в них
B39: 2019 | C39: 2020 | D39: 2021 | E39: 2022 | F39: 2023
A41: Совершено ДТП, единиц | B41: 680 | C41: 644 | D41: 812 | E41: 733 | F41: 709
A42: Счисленность пострадавших,человек
A43: погибло | B43: 122 | C43: 126 | D43: 139 | E43: 101 | F43: 113
A44: ранено | B44: 1201 | C44: 1003 | D44: 1431 | E44: 1264 | F44: 1182

Sheet  связ
A1: 8. СВЯЗЬ
A2: 8.1.Основные показатели связи общего пользования
A3: (тысяч)
B4: 2019 | C4: 2020 | D4: 2021 | E4: 2022 | F4: 2023
A5: Отправлено:
A6: письменной корреспонденции | B6: 76 | C6: 131.6 | D6: 93.6 | E6: 105.8
A7: посылок | B7: 0.5 | C7: 1.9 | D7: 0.1 | E7: 0.8
A8: почтовых переводов денежных средств1 | B8: 16.1 | C8: 7.4 | D8: 14.3 | E8: 3.5
A9: телеграмм | B9: - | C9: - | D9: - | E9: -
A10: 8.2. Объем услуг почтовой и курьерской деятельности, услуги связи
A11: (в фактически действовавших ценах; миллионов сомов)
B12: 2019 | C12: 2020 | D12: 2021 | E12: 2022 | F12: 2023
A13: Почтовая и куррьерская деятельность | B13: 75.2 | C13: 61.2 | D13: 54.1 | E13: 53
A14: Связь
A15: в том числе:
A16: телеграфная | B16: 0.2 | C16: 0.2 | D16: 0.1 | E16: 0.3
A17: международная телефонная | B17: 0.4 | C17: 0.2 | D17: 0.2 | E17: 0.6
A18: междугородная телефонная | B18: 11 | C18: 8.5 | D18: 6.3 | E18: 1.5
A19: городская и сельская телефонная | B19: 30.2 | C19: 26 | D19: 22.6 | E19: 4.7
A20: радиосвязь, радиовещание и телевидение | B20: 5 | C20: 4.7 | D20: 4.1 | E20: -
A21: услуги по предоставлению Интернет каналов | B21: 116 | C21: 127.7 | D21: 144.7 | E21: 79.9
A22: прочие | B22: - | C22: - | D22: - | E22: -
A25: 8.3. Основные показатели развития телефонной связи общего пользования
A26: (на конец года)
B27: 2019 | C27: 2020 | D27: 2021 | E27: 2022 | F27: 2023
A28: Число телефонных станций местной
A29: телефонной сети, единиц | B29: 42 | C29: 42 | D29: 42 | E29: 42
A30: в том числе:
A31: в городских поселениях | B31: 13 | C31: 13 | D31: 13 | E31: 13
A32: в сельской местности | B32: 29 | C32: 29 | D32: 29 | E32: 29
A33: Общая монтированная емкость
A34: телефонных станций, тыс. номеров | B34: 32.1 | C34: 31.9 | D34: 31.9 | E34: 31.8
A35: в том числе:
A36: в городских поселениях | B36: 14 | C36: 14 | D36: 14 | E36: 13.9
A37: в сельской местности | B37: 18.1 | C37: 17.9 | D37: 17.9 | E37: 17.9
A39: Продолжение
B40: 2019 | C40: 2020 | D40: 2021 | E40: 2022 | F40: 2023
A41: Число телефонных аппаратов (без таксофонов)
A42: в том числе:
A43: в городских поселениях | B43: 3.3 | C43: 3.3 | D43: 2.2 | E43: 2.2
...

Sheet труд
A1: 9. ТРУД, ЗАРАБОТНАЯ ПЛАТА И СОЦИАЛЬНОЕ ОБЕСПЕЧЕНИЕ
A2: 9.1.1 Численность занятого населения по видам экономической деятельности *
B3: 2019 | D3: 2020 | F3: 2021 | H3: 2022 | J3: 2023
B4: Тысяч человек | C4: в % к итогу | D4: Тысяч человек | E4: в % к итогу | F4: Тысяч человек | G4: в % к итогу | H4: Тысяч человек | I4: в % к итогу | J4: Тысяч человек | K4: в % к итогу
A5: Всего | B5: 608.5 | C5: 100 | D5: 607.9 | E5: =E7+E8+E9+E10+E11+E12+E13+E14+E15+E16+E17+E19+E20+E21+E22+E23+E24+E25+E26 -> 100.0018 | F5: 632 | G5: 100 | H5: 631.3 | I5: 100 | J5: 622.5 | K5: 100
A6: в том числе:
A7: Сельское хозяйство, лесное хозяйство и рыболовство | B7: 192.3 | C7: 31.6 | D7: 211.8 | E7: 35 | F7: 220.4 | G7: 34.9 | H7: 216.4 | I7: 34.3 | J7: 204.3 | K7: 32.8
A8: Добыча полезных ископаемых | B8: 2.8 | C8: 0.5 | D8: 2.1 | E8: 0.3 | F8: 2.2 | G8: 0.3 | H8: 0.4 | I8: 0.1 | J8: 0 | K8: 0
A9: Обрабатывающие производства | B9: 33.3 | C9: 5.5 | D9: 30.8 | E9: 5 | F9: 29.5 | G9: 4.7 | H9: 29.5 | I9: 4.7 | J9: 27.3 | K9: 4.4
A10: Обеспечение (снабжение) электроэнергией, паром и кондицированным воздухом | B10: 3.1 | C10: 0.5 | D10: 3.1 | E10: 0.50995229 | F10: 3.8 | G10: 0.6 | H10: 3.8 | I10: 0.6 | J10: 4.9 | K10: 0.8
A11: Водоснабжение, очистка, обработка отходов | B11: 0.2 | C11: 0 | D11: 1.3 | E11: 0.002 | F11: 1.9 | G11: 0.3 | H11: 2.1 | I11: 0.3 | J11: 1.1 | K11: 0.2
A12: Строительство | B12: 88.9 | C12: 14.6 | D12: 90.2 | E12: 14.8 | F12: 103.9 | G12: 16.3 | H12: 104.7 | I12: 16.6 | J12: 105.8 | K12: 17
A13: Оптовая и розничная торговля, ремонт автомобилей и мотоциклов | B13: 95.8 | C13: 15.7 | D13: 82.4 | E13: 13.5 | F13: 80 | G13: 12.5 | H13: 82.9 | I13: 13.13 | J13: 84 | K13: 13.5
A14: Транспортная деятельность и хранение грузов | B14: 47.9 | C14: 7.9 | D14: 43.3 | E14: 7.1228821 | F14: 47 | G14: 7.3 | H14: 54.5 | I14: 8.6 | J14: 57 | K14: 9.2
A15: Деятельность гостиниц и ресторанов | B15: 51.4 | C15: 8.4 | D15: 48.8 | E15: 8.0276361 | F15: 45.7 | G15: 7.2 | H15: 43.9 | I15: 7 | J15: 50.2 | K15: 8.1
A16: Информация и связь | B16: 3.6 | C16: 0.6 | D16: 3.2 | E16: 0.5 | F16: 2.8 | G16: 0.6 | H16: 3.7 | I16: 0.6 | J16: 3.6 | K16: 0.6
A17: Финансовое посредничество и страхование | B17: 4 | C17: 0.7 | D17: 3.7 | E17: 0.60865274 | F17: 2.8 | G17: 0.6 | H17: 2.7 | I17: 0.4 | J17: 2.4 | K17: 0.4
A18: Операции с невижимым имуществом | B18: - | C18: - | D18: - | E18: - | F18: - | G18: - | H18: - | I18: - | J18: - | K18: -
A19: Профессиональная, научная и техническая деятельность | B19: 4 | C19: 0.7 | D19: 3.3 | E19: 0.6 | F19: 3.3 | G19: 0.7 | H19: 3 | I19: 0.5 | J19: 2.7 | K19: 0.4
A20: Административная и впомогательная деятельность | B20: 2.1 | C20: 0.3 | D20: 2.9 | E20: 0.4 | F20: 2.5 | G20: 0.5 | H20: 2.2 | I20: 0.4 | J20: 1.8 | K20: 0.3
A21: Государственное управление | B21: 17.2 | C21: 2.8 | D21: 20.2 | E21: 3.322915 | F21: 19 | G21: 3 | H21: 17.2 | I21: 2.7 | J21: 16.1 | K21: 2.6
A22: Образование | B22: 35.9 | C22: 5.9 | D22: 36.8 | E22: 6 | F22: 39.4 | G22: 6.2 | H22: 38.7 | I22: 6.1 | J22: 38.4 | K22: 6.2
A23: Здравоохранение и социальное обслуживание населения | B23: 17.3 | C23: 2.8 | D23: 19 | E23: 3.1255141 | F23: 19.4 | G23: 3 | H23: 18.7 | I23: 3 | J23: 16.8 | K23: 2.7
A24: Искусство, развлечение и отдых | B24: 0.7 | C24: 0.1 | D24: 0.5 | E24: 0.08225037 | F24: 0.7 | G24: 0.1 | H24: 1.1 | I24: 0.1 | J24: 2.3 | K24: 0.4
A25: Прочая обслуживающая деятельность | B25: 7.8 | C25: 1.3 | D25: 4.5 | E25: 1 | F25: 7.7 | G25: 1.2 | H25: 5.3 | I25: 0.8 | J25: 2.8 | K25: 0.4
A26: Деятельность частных домашних хозяйств | B26: 0.3 | C26: 0.1 | D26: 0.2 | E26: 0.1 | F26: 0 | G26: 0 | H26: 0.7 | I26: 0.1 | J26: 0 | K26: 0
A29: *По данным интегрированного выборочного обследования бюджетов домашних хозяйств и рабочей силы

Sheet труд1
A1: 9.1.2 Занятое население Ошской области в возрасте 15 лет и старше *
A2: (тысяч человек)
D3: 2019 | E3: 2020 | F3: 2021 | G3: 2022 | H3: 2023
A5: Занятое население | D5: 608.5 | E5: =E7+E8+E9 -> 607.9 | F5: 632 | G5: 631.3 | H5: 622.5
A6: в том числе:
A7: Сельское хозяйство, охота, лесное хозяйство (включая рыболовство и рыбоводство) | D7: 192.3 | E7: 211.8 | F7: 220.4 | G7: 216.4 | H7: 204.3
A8: Промышленность и строительство | D8: 128.3 | E8: 127.5 | F8: 141.3 | G8: 140.4 | H8: 139.1
A9: Сектор услуг | D9: 288 | E9: 268.6 | F9: 270.3 | G9: 274.5 | H9: 279.1
A11: *) по данным интегрированного выборочного обследования бюджетов домашних хозяйств и рабочей силы рабочей силы
A14: 9.2. Распределение предприятий и организаций сферы туризма по формам собственности
A15: (человек)
D16: 2019 | E16: 2020 | F16: 2021 | G16: 2022 | H16: 2023
A18: Предприятия и организации сферы туризма - всего | D18: 10 | E18: 11 | F18: 12 | G18: 11 | H18: 10
A20: Санаторно-курортные, оздоровительные учреждения
A21: и учреждения отдыха - всего | D21: 4 | E21: 4 | F21: 4 | G21: 2 | H21: 1
A22: Санаторно-курортные учреждения | D22: 4 | E22: 4 | F22: 1 | G22: 3 | H22: 3
A23: Деятельность туристических агентств (туристические агентства) | D23: 1 | E23: 2 | F23: 2 | G23: 1 | H23: 1
A24: Предприятия отдыха и туризма | D24: 2 | E24: 2 | F24: 2 | G24: 2 | H24: 2
A25: Природные парки и заповедники | D25: 3 | E25: 3 | F25: 3 | G25: 3 | H25: 3

Sheet труд2
A1: 9.3. Численность официально зарегистрированных безработных по полу
A2: (человек)
B3: 2019 | C3: 2020 | D3: 2021 | E3: 2022 | F3: 2023
A5: Всего | B5: 19479 | C5: =C6+C7 -> 19977 | D5: 19444 | E5: 17556 | F5: 16376
A6: Мужчин | B6: 10837 | C6: 11230 | D6: 11355 | E6: 10390 | F6: 9667
A7: Женщин | B7: 8642 | C7: 8747 | D7: 8089 | E7: 7166 | F7: 6709
A10: 9.4. Численность официально зарегистрированных безработных по возрасту
A11: (человек)
B12: 2019 | C12: 2020 | D12: 2021 | E12: 2022 | F12: 2023
A14: Всего в возрасте от 16 лет и старше | B14: 19479 | C14: =C15+C16+C17+C18+C19+C20+C21+C22+C23+C24+C25 -> 19977 | D14: 19444 | E14: 17556 | F14: 16376
A15: от 16 до 17 лет | B15: 437 | C15: 422 | D15: 472 | E15: 601 | F15: 504
A16: от 18 до 21 лет | B16: 3034 | C16: 2867 | D16: 2582 | E16: 2414 | F16: 2090
A17: от 22 до 24 лет | B17: 3148 | C17: 2833 | D17: 1862 | E17: 1411 | F17: 1317
A18: от 25 до 29 лет | B18: 1773 | C18: 2396 | D18: 2665 | E18: 2849 | F18: 2988
A19: от 30 до 34 лет | B19: 3762 | C19: 3846 | D19: 3872 | E19: 3314 | F19: 2921
A20: от 35 до 39 лет | B20: 3172 | C20: 3334 | D20: 3463 | E20: 3259 | F20: 3035
A21: от 40 до 44 лет | B21: 1977 | C21: 2116 | D21: 2251 | E21: 1928 | F21: 1877
A22: от 45 до 49 лет | B22: 1038 | C22: 1043 | D22: 1163 | E22: 942 | F22: 850
A23: от 50 до 54 лет | B23: 576 | C23: 572 | D23: 582 | E23: 466 | F23: 432
A24: от 55 до 59 лет | B24: 426 | C24: 412 | D24: 403 | E24: 280 | F24: 270
A25: от 60 лет и старше | B25: 136 | C25: 136 | D25: 129 | E25: 92 | F25: 92
A28: 9.5. Официально зарегистрированные безработные по образованию
A29: (человек)
B30: 2019 | C30: 2020 | D30: 2021 | E30: 2022 | F30: 2023
A32: Всего | B32: 19479 | C32: =C33+C38 -> 19977 | D32: 19444 | E32: 17556 | F32: 16376
A33: Мужчины | B33: 10837 | C33: =C34+C35+C36+C37 -> 11230 | D33: 11355 | E33: 10390 | F33: 9667
A34: Неполное среднее | B34: 2979 | C34: 140 | D34: 438 | E34: 3567 | F34: 3598
A35: Среднее общее | B35: 6550 | C35: 10540 | D35: 18060 | E35: 5595 | F35: 5621
A36: Среднее специальное | B36: 853 | C36: 376 | D36: 456 | E36: 227 | F36: 241
A37: Высшее | B37: 455 | C37: 174 | D37: 489 | E37: 241 | F37: 207
A38: Женщины | B38: 8642 | C38: =C39+C40+C41+C42 -> 8747 | D38: 8089 | E38: 7166 | F38: 6709
A39: Неполное среднее | B39: 2428 | C39: 355 | D39: 168 | E39: 2564 | F39: 2668
A40: Среднее общее | B40: 5249 | C40: 7790 | D40: 7384 | E40: 3863 | F40: 3487
A41: Среднее специальное | B41: 566 | C41: 381 | D41: 266 | E41: 266 | F41: 313
A42: Высшее | B42: 399 | C42: 221 | D42: 271 | E42: 253 | F42: 241

Sheet труд3
A1: 9.6. Численность официально зарегистрированных безработных по территории
A2: (человек)
B3: 2019 | C3: 2020 | D3: 2021 | E3: 2022 | F3: 2023
A5: Ошская область | B5: 19479 | C5: =C7+C8+C9+C10+C11+C12+C13+C14+C15 -> 19977 | D5: 19444 | E5: 17556 | F5: 16376
A6: районы:
A7: Алайский | B7: 1345 | C7: 1181 | D7: 1233 | E7: 1230 | F7: 919
A8: Араванский | B8: 2460 | C8: 2024 | D8: 1440 | E8: 1257 | F8: 1253
A9: Кара-Кулжинский | B9: 1726 | C9: 1665 | D9: 1864 | E9: 867 | F9: 423
A10: Кара-Сууский | B10: 2925 | C10: 3457 | D10: 3582 | E10: 4147 | F10: 3435
A11: г.Кара-Суу | B11: 226 | C11: 288 | D11: 289 | E11: 309 | F11: 281
A12: Ноокатский | B12: 8078 | C12: 7608 | D12: 7536 | E12: 5812 | F12: 6280
A13: Узгенский | B13: 1996 | C13: 2184 | D13: 2556 | E13: 2620 | F13: 2218
A14: г.Узген | B14: 480 | C14: 458 | D14: 578 | E14: 645 | F14: 550
A15: Чон-Алайский | B15: 949 | C15: 1112 | D15: 1233 | E15: 1623 | F15: 1848
A18: 9.7. Среднемесячная заработная плата работников предприятий, учреждений и организаций по видам экономической деятельности (сомов)
B21: 2019 | C21: 2020 | D21: 2021 | E21: 2022 | F21: 2023
A23: Всего | B23: 11368 | C23: 12712.4 | D23: 12557 | E23: 19762.4 | F23: 23134
A24: Сельское хозяйство, лесное хозяйство и рыболовство | B24: 9549.6 | C24: 8920.9 | D24: 8987 | E24: 14363.4 | F24: 22455
A25: Добыча полезных ископаемых | B25: 12905.7 | C25: 11939 | D25: 10088 | E25: 13399.7 | F25: 20801
A26: Обрабатывающие производства | B26: 14613.2 | C26: 15289.2 | D26: 14697 | E26: 21030.6 | F26: 21617
A27: Обеспечение (снабжение) электроэнергией, паром и кондицированным воздухом | B27: 20589.7 | C27: 23239.7 | D27: 23209 | E27: 31375.8 | F27: 39354
A28: Водоснабжение, очистка, обработка отходов | B28: 7177.6 | C28: 7877.9 | D28: 7891 | E28: 9720.3 | F28: 11830
A29: Строительство | B29: 10569.3 | C29: 8895.7 | D29: 8552 | E29: 13159.2 | F29: 16333
A30: Оптовая и розничная торговля, ремонт автомобилей и мотоциклов | B30: 8316.6 | C30: 6621.2 | D30: 7759 | E30: 10049.2 | F30: 13250
A31: Транспортная деятельность и хранение грузов | B31: 8992.9 | C31: 9012.9 | D31: 9471 | E31: 11749.2 | F31: 12555
A32: Деятельность гостиниц и ресторанов | B32: 6522.2 | D32: 5034 | E32: 9898.1 | F32: 5833
A33: Информация и связь | B33: 13875.7 | C33: 14815.8 | D33: 14945 | E33: 17116.8 | F33: 21612
A34: Финансовое посредничество и страхование | B34: 25229.8 | C34: 27197.2 | D34: 27511 | E34: 35790.9 | F34: 42792
A35: Операции с недвижимым имуществом | B35: 8892 | C35: 8202.7 | D35: 8479 | E35: 11292.6 | F35: 16157
A36: Профессиональная, научная и техническая деятельность | B36: 16268 | C36: 15955.4 | D36: 15778 | E36: 26100.4 | F36: 34323
A37: Административная и впомогательная деятельность | B37: 14143 | C37: 17025.9 | D37: 15464 | E37: 19239.3 | F37: 20041
A38: Государственное управление | B38: 16753 | C38: 18752.7 | D38: 18521 | E38: 23890.8 | F38: 38839
A39: Образование | B39: 10265 | C39: 12282.1 | D39: 12286 | E39: 20026.8 | F39: 22272
A40: Здравоохранение и социальное обслуживание населения | B40: 9469 | C40: 9346.9 | D40: 9355 | E40: 17483.8 | F40: 17499
A41: Искусство, развлечение и отдых | B41: 6603 | C41: 6635.3 | D41: 6696 | E41: 14447.5 | F41: 18244
A42: Прочая обслуживающая деятельность | B42: 5045 | C42: 5866.4 | D42: 5114 | E42: 6788 | F42: 8244
A43: Деятельность частных домашних хозяйств | B43: - | C43: - | D43: - | E43: - | F43: -
A44: Деятельность экстерриториальных организаций | B44: - | C44: - | D44: - | E44: - | F44: -

Sheet труд4
A1: 9.8. Среднемесячная заработная плата работников предприятий и учреждений сферы туризма по формам собственности
A2: (сомов)
B3: 2019 | C3: 2020 | D3: 2021 | E3: 2022 | F3: 2023
A5: Предприятия и организации сферы туризма - всего | B5: 8700 | C5: 8432 | D5: 7749 | E5: 12360.5 | F5: 23542
A6: в т.ч. Гостиницы
A7: Санаторно-курортные учреждения | B7: 7855.1 | C7: 7656.5 | D7: 7656 | E7: 9872.8 | F7: 18609
A8: Деятельность туристических агентств (туристические агентства) | B8: - | C8: - | D8: - | E8: - | F8: -
A9: Предприятия отдыха и туризма | B9: 6522 | C9: 0 | D9: 3297.2 | E9: 1833.3 | F9: 5833
A10: Природные парки и заповедники | B10: 10472 | C10: 9694.9 | D10: 9695 | E10: 18695.7 | F10: 29912
A15: 9.9. Среднемесячная заработная плата работников предприятий, учреждений и организаций по территории
A16: (сомов)
B17: 2019 | C17: 2020 | D17: 2021 | E17: 2022 | F17: 2023
A19: Ошская область | B19: 11368 | C19: 12712 | D19: 12557 | E19: 19762.4 | F19: 23134
A20: районы:
A21: Алайский | B21: 13862 | C21: 16137 | D21: 16006 | E21: 24109.7 | F21: 29587
A22: Араванский | B22: 9687 | C22: 11177 | D22: 11049 | E22: 17886.7 | F22: 21330
A23: Кара-Кулжинский | B23: 11904 | C23: 13492 | D23: 8958 | E23: 20683 | F23: 24931
A24: Кара-Сууский | B24: 10885 | C24: 11948 | D24: 11775 | E24: 18672.9 | F24: 21242
A25: в т.ч. г. Кара-Суу | B25: 13410 | C25: 12340 | D25: 12446 | E25: 19780.7 | F25: 22526
A26: Ноокатский | B26: 11414 | C26: 12419.9 | D26: 12327 | E26: 19673.8 | F26: 22739
A27: в т.ч. г. Ноокат | B27: 11092 | C27: 10922.1 | D27: 10846 | E27: 17973.9 | F27: 26106
A28: Узгенский | B28: 10755 | C28: 12242 | D28: 11949 | E28: 18437.2 | F28: 21842
A29: в т.ч. г. Узген | B29: 12520 | C29: 13762 | D29: 13646 | E29: 19798.8 | F29: 24980
A30: Чон-Алайский | B30: 15525 | C30: 16828 | D30: 16935 | E30: 27267.2 | F30: 31453

Sheet торг
A1: 10. ТОРГОВЛЯ И РЫНОЧНЫЕ УСЛУГИ
A2: 10.1.Оптовая и розничная торговля, ремонт автомобилей и мотоциклов
A3: (млн. сомов)
B4: 2019 | C4: 2020 | D4: 2021 | E4: 2022 | F4: 2023
A6: Всего | B6: 44980.3 | C6: 37473.1 | D6: =D7+D8+D9+D10+D11 -> 48279.8 | E6: =E7+E8+E9+E10+E11 -> 61984.7 | F6: =F7+F8+F9+F10+F11 -> 76071
A7: Оптовая и розничная торговля автомобилями и мотоциклами,их детелями,узлами и принадлежностями | B7: 248.8 | C7: 175.2 | D7: 249 | E7: 266.2 | F7: 291.8
A8: Техническое обслуживание и ремонт автомобилей | B8: 124.7 | C8: 103.6 | D8: 143.2 | E8: 184.3 | F8: 188.3
A9: Оптовая торговля | B9: 9470.2 | C9: 6230.5 | D9: 6224.1 | E9: 10245.8 | F9: 12323.4
A10: Розничная торговля моторным топливом | B10: 4236.1 | C10: 3483.4 | D10: 5707.9 | E10: 8144.7 | F10: 10356.8
A11: Розничная торговля, кроме торговли автомобилями и моторным топливом | B11: 30900.5 | C11: 27480.4 | D11: 35955.6 | E11: 43143.7 | F11: 52910.7
A14: 10.2. Индексы физического объема оборота оптовой и розничной
A15: торговли, ремонта автомобилей и мотоциклов
A16: (в процентах к предыдущему году)
B17: 2019 | C17: 2020 | D17: 2021 | E17: 2022 | F17: 2023
A19: Всего | B19: 105.8 | C19: 80 | D19: 111.6 | E19: 114.4 | F19: 116
A20: Оптовая и розничная торговля автомобилями и мотоциклами, их деталями, узлами и принадлежностями | B20: 102 | C20: 69.4 | D20: 136.1 | E20: 101.8 | F20: 104.1
A21: Техническое обслуживание и ремонт автомобилей | B21: 104 | C21: 89.3 | D21: 108.6 | E21: 104.2 | F21: 103
A22: Оптовая торговля | B22: 120.2 | C22: 61.9 | D22: 88.8 | E22: 149.9 | F22: 111.5
A23: Розничная торговля моторным топливом | B23: 99.3 | C23: 93.8 | D23: 114.3 | E23: 109.3 | F23: 135.2
A24: Розничная торговля, кроме торговли автомобилями и моторным топливом | B24: 103.1 | C24: 83.6 | D24: 116.3 | E24: 109.2 | F24: 113.6
A26: 10.3. Деятельность гостиниц и ресторанов
A27: (млн. сомов)
B28: 2019 | C28: 2020 | D28: 2021 | E28: 2022 | F28: 2023
A30: Всего | B30: 1180.5 | C30: 961.9 | D30: =C31+C32 -> 961.9 | E30: =D31+D32 -> 1196.5 | F30: =E31+E32 -> 1435.6
A31: Предоставление услуг гостиницами и услуг для туристического проживания, а также прочими местами для краткосрочного проживания | B31: 17.6 | C31: 7.4 | D31: 13 | E31: 14.7 | F31: 65.6
A32: Деятельность ресторанов, предоставление мобильных услуг и прочих услуг по обеспечению пищей | B32: 1162.9 | C32: 954.5 | D32: 1183.5 | E32: 1420.9 | F32: 1633.6
A35: 10.4. Индексы физического объема деятельности гостиниц и ресторанов
A36: (в процентах к предыдущему году)
B37: 2019 | C37: 2020 | D37: 2021 | E37: 2022 | F37: 2023
A39: Всего | B39: 103.2 | C39: 74.9 | D39: 107.7 | E39: 109 | F39: 110.2
A40: Предоставление услуг гостиницами и услуг для туристического проживания,а также прочими местами для краткосрочного проживания | B40: 115.3 | C40: 42.1 | D40: 175.1 | E40: 113.4 | F40: 445.7
A41: Деятельность ресторанов, предоставление мобильных услуг и прочих услуг по обеспечению пищей | B41: 103.1 | C41: 75.4 | D41: 107.2 | E41: 109 | F41: 106.7
A43: 10.5. Оптовая и розничная торговля, ремонт автомобилей и мотоциклов по формам собственности
A44: (млн. сомов)
B45: 2019 | C45: 2020 | D45: 2021 | E45: 2022 | F45: 2023
A47: Всего | B47: 44980.3 | C47: 37473.1 | D47: =D49+D50+D51+D52+D53 -> 48279.8 | E47: =E49+E50+E51+E52+E53 -> 61984.7 | F47: =F49+F50+F51+F52+F53 -> 76071
A49: Оптовая и розничная торговля автомобилями и мотоциклами, их детелями, узлами и принадлежности | B49: 248.8 | C49: 175.2 | D49: 249 | E49: 266.2 | F49: 291.8
A50: Техническое обслуживание и ремонт автомобилей | B50: 124.7 | C50: 103.6 | D50: 143.2 | E50: 184.3 | F50: 188.3
A51: Оптовая торговля | B51: 9470.2 | C51: 6230.5 | D51: 6224.1 | E51: 10245.8 | F51: 12323.4
A52: Розничная торговля моторным топливом | B52: 4236.1 | C52: 3483.4 | D52: 5707.9 | E52: 8144.7 | F52: 10356.8
...

Sheet торг1
A1: 10.14. Объем оборота розничной торговли,
A2: включая предприятия питания, по каналам реализации
B4: 2019 | C4: 2020 | D4: 2021 | E4: 2022 | F4: 2023
A6: Миллион сомов
A7: Все каналы реализации | B7: 36548.2 | C7: 32093.4 | D7: =D8+D9 -> 43095.9 | E7: =E8+E9 -> 52975.5 | F7: =F8+F9 -> 65192.9
A8: Торгующие организации | B8: 8097.9 | C8: 7113.2 | D8: 10199.1 | E8: 13133.9 | F8: 16479.6
A9: Торговля на всех типах рынков | B9: 28450.3 | C9: 24980.2 | D9: 32896.8 | E9: 39841.6 | F9: 48713.3
A12: Все каналы реализации | B12: 101.9 | C12: 82.6 | D12: 119.4 | E12: 111.9 | F12: 114
A13: Торгующие организации | B13: 96.4 | C13: 82.6 | D13: 127.5 | E13: 117.2 | F13: 116.3
A14: Торговля на всех типах рынков | B14: 103.5 | C14: 82.6 | D14: 117.1 | E14: 110.3 | F14: 113.3
A17: 10.15. Розничная торговля, включая оборот предприятий
A18: питания по территории
A19: млн. сомов)
B20: 2019 | C20: 2020 | D20: 2021 | E20: 2022 | F20: 2023
A22: Ошская область | B22: 36548.2 | C22: 32093.4 | D22: =D24+D25+D26+D27+D29+D31+D33 -> 43095.9 | E22: =E24+E25+E26+E27+E29+E31+E33 -> 52975.5 | F22: =F24+F25+F26+F27+F29+F31+F33 -> 65192.9
A23: районы:
A24: Алайский | B24: 1330.3 | C24: 1140 | D24: 1442.2 | E24: 1751.8 | F24: 2072.7
A25: Араванский | B25: 1364.6 | C25: 1206.9 | D25: 1603.7 | E25: 1870.8 | F25: 2280.9
A26: Кара-Кулжинский | B26: 965.9 | C26: 884.9 | D26: 1179.8 | E26: 1368.6 | F26: 1538.3
A27: Кара-Сууский | B27: 19483.5 | C27: 18277.8 | D27: 24160.5 | E27: 30070.2 | F27: 38402.2
A28: г.Кара-Суу | B28: 11202.3 | C28: 11779.5 | D28: 14024.1 | E28: 15868.4 | F28: 18015.8
A29: Ноокатский | B29: 5408.9 | C29: 4166.2 | D29: 5724.8 | E29: 6844.7 | F29: 7910.2
A30: г. Ноокат | B30: 2731.2 | C30: 2242.9 | D30: 1905 | E30: 2117.2 | F30: 2372.2
A31: Узгенский | B31: 6964.7 | C31: 5651.5 | D31: 7949.3 | E31: 9852 | F31: 11588.1
A32: г.Узген | B32: 4249 | C32: 3712.1 | D32: 5193.6 | E32: 5746.2 | F32: 6534.3
A33: Чон-Алайский | B33: 1030.3 | C33: 766.1 | D33: 1035.6 | E33: 1217.4 | F33: 1400.5
A36: 10.16. Индексы физического объема оборота розничной торговли,
A37: включая предприятия питания по территории
A38: (в процентах к предыдущему году)
B39: 2019 | C39: 2020 | D39: 2021 | E39: 2022 | F39: 2023
A41: Ошская область | B41: 101.9 | C41: 82.6 | D41: 119.4 | E41: 111.9 | F41: 114
A42: районы:
A43: Алайский | B43: 104.1 | C43: 80.6 | D43: 112.5 | E43: 110.6 | F43: 109.6
A44: Араванский | B44: 102.8 | C44: 83.2 | D44: 118.1 | E44: 106.2 | F44: 113
A45: Кара-Кулжинский | B45: 100.7 | C45: 86.2 | D45: 118.5 | E45: 105.6 | F45: 104.2
A46: Кара-Сууский | B46: 101.1 | C46: 88.2 | D46: 117.5 | E46: 113.3 | F46: 118.3
A47: г.Кара-Суу | B47: 102.3 | C47: 98.9 | D47: 105.8 | E47: 60.1 | F47: 105.2
A48: Ноокатский | B48: 102.9 | C48: 72.4 | D48: 122.2 | E48: 108.9 | F48: 107.1
A49: г. Ноокат | B49: 104.5 | C49: 77.2 | D49: 75.5 | E49: 101.2 | F49: 103.8
A50: Узгенский | B50: 102.7 | C50: 76.3 | D50: 125.1 | E50: 112.8 | F50: 109
...

Sheet услуги
A1: 10.20. Объем рыночных услуг по видам экономической деятельности
A2: млн.сомов
B3: 2019 | C3: 2020 | D3: 2021 | E3: 2022 | F3: 2023
A4: Всего рыночные услуги | B4: 49924.7 | C4: 41797.6 | D4: 53791.8 | E4: =E5+E6+E7+E8+E9+E10+E11+E12+E13+E14+E15+E16 -> 68010 | F4: =F5+F6+F7+F8+F9+F10+F11+F12+F13+F14+F15+F16 -> 82888.1
A5: Оптовая и розничная торговля автомобилями и мотоциклами, их деталями, узлами и принадлежностями | B5: 44980.3 | C5: 37473.1 | D5: 48279.8 | E5: 61984.7 | F5: 76071
A6: Транспортная деятельность и хранение грузов | B6: 1779.6 | C6: 961.9 | D6: 1750.7 | E6: 1695.7 | F6: 1798.6
A7: Услуги гостиниц и ресторанов | B7: 1180.5 | C7: 1388 | D7: 1196.5 | E7: 1435.7 | F7: 1699.3
A8: Информация и связь | B8: 79.2 | C8: 99.4 | D8: 138.9 | E8: 141 | F8: 139.1
A9: Финансовое посредничество и страхование | B9: 847.5 | C9: 866.7 | D9: 1063.5 | E9: 1124.3 | F9: 1115.2
A10: Операции с недвижимым имуществом | B10: 79.9 | C10: 93.9 | D10: 138.5 | E10: 165.2 | F10: 201.2
A11: Профессиональная, научная и техническая деятельность | B11: 237.7 | C11: 207.1 | D11: 283.2 | E11: 295.8 | F11: 386.8
A12: Административная и вспомогательная деятельность | B12: 139.9 | C12: 148.6 | D12: 172 | E12: 164.7 | F12: 247.3
A13: Образование | B13: 250.7 | C13: 123.4 | D13: 312.4 | E13: 421.3 | F13: 518.3
A14: Здравоохранение и социальное обслуживание населения | B14: 107.8 | C14: 167.7 | D14: 178.7 | E14: 263 | F14: 288.4
A15: Искусство, развлечения и отдых | B15: 27.9 | C15: 30.5 | D15: 31.8 | E15: 54.3 | F15: 67
A16: Прочая обслуживающая деятельность | B16: 213.7 | C16: 237.3 | D16: 245.8 | E16: 264.3 | F16: 355.9
A19: 10.21. Индексы физического объема рыночных услуг по видам экономической деятельности
A20: в процентах к предыдущему году
B21: 2019 | C21: 2020 | D21: 2021 | E21: 2022 | F21: 2023
A22: Всего рыночные услуги | B22: 105.4 | C22: 80.9 | D22: 111.2 | E22: 113.8 | F22: 115.2
A23: Оптовая и розничная торговля автомобилями и мотоциклами, их деталями, узлами и принадлежностями | B23: 105.8 | C23: 80 | D23: 111.6 | E23: 114.4 | F23: 116
A24: Транспортная деятельность и хранение грузов | B24: 101.2 | C24: 92 | D24: 106.5 | E24: 107.9 | F24: 110.6
A25: Услуги гостиниц и ресторанов | B25: 103.2 | C25: 74.9 | D25: 107.7 | E25: 109 | F25: 110.2
A26: Информация и связь | B26: 95.7 | C26: 93.6 | D26: 97.7 | E26: 91.6 | F26: 96
A27: Финансовое посредничество и страхование | B27: 100.3 | C27: 100 | D27: 99.9 | E27: 107.8 | F27: 101.5
A28: Операции с недвижимым имуществом | B28: 100.3 | C28: 98.1 | D28: 100 | E28: 96.4 | F28: 83.1
A29: Профессиональная, научная и техническая деятельность | B29: 92.9 | C29: 95.8 | D29: 97.4 | E29: 103.8 | F29: 101.5
A30: Административная и вспомогательная деятельность | B30: 98.1 | C30: 95.7 | D30: 102.3 | E30: 100.8 | F30: 109.6
A31: Образование | B31: 112.3 | C31: 48.8 | D31: 251.1 | E31: 132.8 | F31: 117.3
A32: Здравоохранение и социальное обслуживание населения | B32: 104.6 | C32: 152.9 | D32: 102.7 | E32: 142.3 | F32: 107.4
A33: Искусство, развлечения и отдых | B33: 101.6 | C33: 101.3 | D33: 99.8 | E33: 81.8 | F33: 104.9
A34: Прочая обслуживающая деятельность | B34: 101.3 | C34: 99.1 | D34: 94.8 | E34: 85.4 | F34: 93.8

Sheet инд
A1: 11. ЦЕНЫ И ТАРИФЫ
A2: 11.1. Индекс потребительских цен и тарифов на товары и услуги
A3: (в процентах к декабрю предыдущего года)
B4: 2019 | C4: 2020 | D4: 2021 | E4: 2022 | F4: 2023
A6: Все товары и платные услуги | B6: 101.3 | C6: 107.7 | D6: 110.7 | E6: 109.38 | F6: 108.19191
A8: Товары | B8: 101.4 | C8: 109 | D8: 111.2 | E8: 109.27 | F8: 107.92
A9: Продовольственные | B9: 101.1 | C9: 114 | D9: 113.9 | E9: 110.3 | F9: 107.1
A10: Непродовольственные | B10: 100.3 | C10: 102 | D10: 108 | E10: 107.19 | F10: 107.2
A11: Платные услуги | B11: 100.8 | C11: 101.2 | D11: 107.7 | E11: 110 | F11: 109.2
A12: Хлеб, хлебобулочные изделия и крупы | B12: 100.4 | C12: 108.5 | D12: 108.3 | E12: 111.59 | F12: 111.46057
A13: Мясо | B13: 105.1 | C13: 121.7 | D13: 114.5 | E13: 106.99 | F13: 103.97024
A14: Рыба | B14: 110.1 | C14: 99.9 | D14: 108.1 | E14: 104.47 | F14: 103.11843
A15: Молочные изделия, сыр и яйца | B15: 99.8 | C15: 108.5 | D15: 114.6 | E15: 101.13 | F15: 109.96881
A16: Масла и жиры | B16: 100.1 | C16: 133.4 | D16: 125.7 | E16: 106.11 | F16: 95.3957
A17: Фрукты и овощи | B17: 98.4 | C17: 110.5 | D17: 118.3 | E17: 100.72 | F17: 112.69168
A18: Сахар, джем, мед, шоколад и конфеты | B18: 97.1 | C18: 110.4 | D18: 120.8 | E18: 124.33 | F18: 99.555317
... A30: Рестораны и гостиницы | B30: 97.7 | C30: 101.6 | D30: 112.8 | E30: 111.56 | F30: 104.7308
A34: 11.2. Средние потребительские цены (тарифы) на отдельные виды товаров (услуг) на потребительском рынке
A35: (в сомах за килограмм, штуку, пару, услугу)
B36: 2019 | C36: 2020 | D36: 2021 | E36: 2022 | F36: 2023
A38: Рис среднезерный | B38: 74.15 | C38: 90.31 | D38: 93.05 | E38: 96.2 | F38: 131.64
A39: Хлеб из муки 1 сорта | B39: 62.11 | C39: 64.05 | D39: 64.23 | E39: 69.5 | F39: 72.74
A40: Мука пшеничная 1 сорта | B40: 32.54 | C40: 37.4 | D40: 39.75 | E40: 48.33 | F40: 50.5
A41: Говядина | B41: 324.52 | C41: 369.48 | D41: 460.37 | E41: 508.04 | F41: 524.65
A42: Баранина | B42: 327.86 | C42: 378.93 | D42: 489.69 | E42: 574.59 | F42: 600
A43: Молоко цельное разливное, л | B43: 30.5 | C43: 32.95 | D43: 38.58 | E43: 46.77 | F43: 49.67
A44: Яйца куриные, 10 шт. | B44: 87.65 | C44: 94.45 | D44: 119.32 | E44: 127.44 | F44: 136.08
A45: Масло сливочное | B45: 356.91 | C45: 360.66 | D45: 357.55 | E45: 428.2 | F45: 460.01
A46: Масло подсолнечное, кг | B46: 94.41 | C46: 104.08 | D46: 165.03 | E46: 181.16 | F46: 165.46
A47: Яблоки | B47: 40.48 | C47: 66.78 | D47: 57.02 | E47: 55.42 | F47: 78.82
A48: Лук репчатый | B48: 21.03 | C48: 21.36 | D48: 22.66 | E48: 30.05 | F48: 28.1
A49: Картофель | B49: 20.11 | C49: 26.02 | D49: 35.82 | E49: 31.05 | F49: 28.95
... A62: Стрижка модельная (женская) | B62: 306.58 | C62: 298.94 | D62: 307.22 | E62: 360.73 | F62: 387.27
B63: Продолжение
B64: 2019 | C64: 2020 | D64: 2021 | E64: 2022 | F64: 2023
A65: Абонентская плата за телефон, за месяц | B65: 60.34 | C65: 62.24 | D65: 62.24 | E65: 62.24 | F65: 103.74
A66: Плата за электричество (за кВт/ч) | B66: 0.77 | C66: 0.77 | D66: 0.77 | E66: 0.77 | F66: 1
A69: 11.3. Средние потребительские тарифы на отдельные виды услуг, оказываемых населению, в сфере туризма
A70: (в сомах)
B71: 2019 | C71: 2020 | D71: 2021 | E71: 2022 | F71: 2023
...

Sheet Госсектор
A1: 12. ГОСУДАРСТВЕННЫЕ ФИНАНСЫ
A2: 12.1. Республиканский бюджет
A3: (тысяч сомов)
B4: 2019 | C4: 2020 | D4: 2021 | E4: 2022 | F4: 2023
A6: Доходы, всего | B6: 1501671.8 | C6: 1311965.3 | D6: 1943128 | E6: 2107690.7 | F6: 3583750.3
